BEGIN:VCALENDAR
VERSION:2.0
PRODID:-//Tukios.com/
BEGIN:VEVENT
UID:04f00ae5-3d91-41e3-8130-84644082a9a9@www.plattsfuneralhome.com
DTSTAMP:20260423T173844Z
DTSTART:20260529T190000Z
DTEND:20260529T200000Z
SUMMARY:Memorial Service
DESCRIPTION:
URL:https://www.plattsfuneralhome.com/augusta_obituaries/patricia-lunceford
LOCATION:Grace Baptist Church 4945 Hardy McManus Road  Evans GA 30809
GEO:33.5751547;-82.1726379
END:VEVENT
END:VCALENDAR