BEGIN:VCALENDAR
VERSION:2.0
PRODID:-//Tukios.com/
BEGIN:VEVENT
UID:b6684314-3eeb-4a72-a55e-2c994f7adbe7@www.plattsfuneralhome.com
DTSTAMP:20260423T173838Z
DTSTART:20260530T150000Z
DTEND:20260530T160000Z
SUMMARY:Graveside Service
DESCRIPTION:
URL:https://www.plattsfuneralhome.com/augusta_obituaries/patricia-lunceford
LOCATION:Hickory Grove Baptist Church 125 Hickory Grove Road  Brunson SC 
	29911
GEO:32.979062;-81.110574
END:VEVENT
END:VCALENDAR