BEGIN:VCALENDAR
VERSION:2.0
PRODID:-//Tukios.com/
BEGIN:VEVENT
UID:7bd8ee71-9991-4b5b-bf3e-0eec473a5980@www.plattsfuneralhome.com
DTSTAMP:20260423T174350Z
DTSTART:20260529T180000Z
DTEND:20260529T190000Z
SUMMARY:Visitation
DESCRIPTION:
URL:https://www.plattsfuneralhome.com/augusta_obituaries/patricia-lunceford
LOCATION:Grace Baptist Church 4945 Hardy McManus Road  Evans GA 30809
GEO:33.5751547;-82.1726379
END:VEVENT
END:VCALENDAR