BEGIN:VCALENDAR
VERSION:2.0
PRODID:-//Tukios.com/
BEGIN:VEVENT
UID:1b968518-c62a-483e-9b38-d6fe605782b6@www.plattsfuneralhome.com
DTSTAMP:20260424T174730Z
DTSTART:20260430T200000Z
DTEND:20260430T210000Z
SUMMARY:Memorial Service
DESCRIPTION:
URL:https://www.plattsfuneralhome.com/augusta_obituaries/deborah-carde
LOCATION:Platt’s Funeral Home 337 North Belair Road  Evans GA 30809
GEO:33.524308;-82.1386382
END:VEVENT
END:VCALENDAR